Workbook

Sheet Reconciled
A2: Date | B2: Inv No | C2: Payee | D2: Online reference | E2: Amount | F2: Bank Statement | G2: Subscriptions | H2: Village Hall | I2: Training | J2: Expenses | K2: Audit | L2: Salary | M2: Defibrillator | N2: Local Elections | O2: Insurance | P2: Chair's Allowance | Q2: Donations | R2: Laptop/IT | S2: S137 Payments | T2: SID | U2: Stationary/Postage | V2: Village Maintenance
A3: 45750 | B3: salary | C3: A. Clarke | D3: A Whitehurst | E3: 265.72 | F3: APRIL 2025 | L3: 265.72
A4: 45769 | B4: service charge | C4: Lloyds Bank | D4: Service Charges | E4: 4.75 | F4: APRIL 2025 | G4: 4.75
A5: 45771 | B5: land registry searches | C5: Miss Helen C Ball | D5: Miss Helen C Ball | E5: 35 | F5: APRIL 2025 | J5: 35
A6: 45783 | B6: salary | C6: A. Clarke | D6: A Whitehurst | E6: 265.72 | F6: MAY 2025 | L6: 265.72
A7: 45783 | B7: salary | C7: A. Clarke | D7: A Whitehurst | E7: 9 | F7: MAY 2025 | L7: 9
A8: 45783 | B8: INV-0712 | C8: IT Services | D8: IT Services | E8: 20 | F8: MAY 2025 | R8: 20
A9: 45783 | B9: 29747 | C9: SALC | D9: SALC | E9: 54 | F9: MAY 2025 | G9: 54
A10: 45783 | B10: 30099 | C10: SALC | D10: SALC | E10: 175.66 | F10: MAY 2025 | G10: 175.66
A11: 45783 | B11: INV-0131 | C11: Suffolk Cloud | D11: Suffolk Cloud | E11: 120 | F11: MAY 2025 | R11: 120
A12: 45783 | B12: WPCMar2025 | C12: Village Hall | D12: Village Hall | E12: 44 | F12: MAY 2025 | H12: 44
A13: 45796 | B13: service charge | C13: Lloyds Bank | D13: Service Charges | E13: 5.25 | F13: MAY 2025 | G13: 5.25
A14: 45813 | B14: salary | C14: A. Clarke | D14: A Whitehurst | E14: 265.72 | F14: JUNE 2025 | L14: 265.72
A15: 45825 | B15: service charge | C15: Lloyds Bank | D15: Service Charges | E15: 4.25 | F15: JUNE 2025 | G15: 4.25
A16: 45853 | B16: salary | C16: A. Clarke | D16: Cheque 213 | E16: 16.28 | F16: JULY 2025 | L16: 16.28
A17: 45853 | B17: salary | C17: A. Clarke | D17: Cheque 216 | E17: 44.1 | F17: JULY 2025 | L17: 44.1
A18: 45856 | B18: receipt | C18: Miss Helen C Ball | D18: Cheque 212 | E18: 15.85 | F18: JULY 2025 | J18: 15.85
A19: 45859 | B19: service charge | C19: Lloyds Bank | D19: Service Charges | E19: 4.25 | F19: JULY 2025 | G19: 4.25
A20: 45861 | B20: HL9610 | C20: Heelis & Lodge | D20: Cheque 215 | E20: 130 | F20: JULY 2025 | K20: 130
A21: 45888 | B21: service charge | C21: Lloyds Bank | D21: Service Charges | E21: 4.25 | F21: AUGUST 2025 | G21: 4.25
A22: 45889 | B22: 42UE114-0005 | C22: Parish Online | D22: Cheque 214 | E22: 360 | F22: AUGUST 2025 | R22: 360
A23: 45918 | B23: salary | C23: A. Clarke | D23: Cheque 218 | E23: 70.12 | F23: SEPTEMBER 2025 | L23: 70.12
A24: 45919 | B24: service charge | C24: Lloyds Bank | D24: Service Charges | E24: 6.25 | F24: SEPTEMBER 2025 | G24: 6.25
A25: 45922 | B25: 91265378 | C25: Insurance | D25: Cheque 217 | E25: 241 | F25: SEPTEMBER 2025 | O25: 241
A26: 45950 | B26: service charge | C26: Lloyds Bank | D26: Service Charges | E26: 4.75 | F26: OCTOBER 2025 | G26: 4.75
A27: 45979 | B27: service charge | C27: Lloyds Bank | D27: Service Charges | E27: 5.25 | F27: NOVEMBER 2025 | G27: 5.25
A28: 45987 | B28: 30619 | C28: SALC | D28: Cheque 220 | E28: 54 | F28: NOVEMBER 2025 | G28: 54
A29: 45974 | B29: chair allowance | C29: J. Collett | D29: Cheque 222 | E29: 20 | F29: DECEMBER 2025 | L29: 20
A30: 45974 | B30: 27450 | C30: Community Heartbeat | D30: Cheque 219 | E30: 120 | F30: DECEMBER 2025 | M30: 120
A31: 45974 | B31: WPCSeo2025 | C31: Village Hall Hire | D31: Cheque 221 | E31: 138 | F31: DECEMBER 2025 | H31: 138
A32: 46010 | B32: service charge | C32: Lloyds Bank | D32: Service Charges | E32: 4.25 | F32: DECEMBER 2025 | G32: 4.25
A33: 46013 | B33: INV-0976 | C33: CAS Ltd | D33: Cheque 223 | E33: 219 | F33: DECEMBER 2025 | R33: 219
A34: 46041 | B34: service charge | C34: Lloyds Bank | D34: Service Charges | E34: 5.75 | F34: JANUARY 2026 | G34: 5.75
A35: 46070 | B35: service charge | C35: Lloyds Bank | D35: Service Charges | E35: 5.25 | F35: FEBRUARY 2026 | G35: 5.25
A36: 46084 | B36: 02db8af2120a | C36: ICO | D36: Bank Transfer | E36: 52 | F36: MARCH 2026 | G36: 52
A37: 46084 | B37: WPCNov2025 | C37: Wilby Village Hall | D37: Bank Transfer | E37: 44 | F37: MARCH 2026 | H37: 44
A38: 46084 | B38: WPCJan2026 | C38: Wilby Village Hall | D38: Bank Transfer | E38: 22 | F38: MARCH 2026 | H38: 22
A39: 46098 | B39: 30990 | C39: SALC | D39: Bank Transfer | E39: 54 | F39: MARCH 2026 | G39: 54
A40: 46098 | B40: service charge | C40: Lloyds Bank | D40: Lloyds Bank | E40: 4.25 | F40: MARCH 2026 | G40: 4.25
A41: 46111 | B41: 20808 | C41: Community Heartbeat | D41: Cheque 226 | E41: 151.2 | F41: MARCH 2026 | M41: 151.2
...

Sheet Liable
A2: Date | B2: Inv No | C2: Payee | D2: Notes | E2: Cheque number | F2: Amount | G2: Bank Statement | H2: Subscriptions | I2: Village Hall | J2: Training | K2: Expense | L2: Audit | M2: Salary | N2: Defibrillator | O2: Local Elections | P2: Insurance | Q2: Chairman | R2: Donations | S2: Laptop/IT | T2: S137 Payments | U2: SID | V2: Stationery/Postage | W2: Village MTCE
A23: *** DO NOT INSERT LINES BELOW THIS LINE ONLY ABOVE
C24: Totals | F24: =SUM(F3:F22) -> 0 | H24: =SUM(H3:H23) -> 0 | I24: =SUM(I3:I23) -> 0 | J24: =SUM(J3:J23) -> 0 | K24: =SUM(K3:K23) -> 0 | L24: =SUM(L3:L23) -> 0 | M24: =SUM(M3:M23) -> 0 | N24: =SUM(N3:N23) -> 0 | O24: =SUM(O3:O23) -> 0 | ... W24: =SUM(W3:W23) -> 0
C25: CHECK | F25: =SUM(H24:W24) -> 0

Sheet 2025-2026
A1: Ongoing Financial Statement 2025/2026
A2: Reserves | C2: Sub-totals | D2: Received | E2: Deadline | F2: Notes
A3: Earmarked reserves
A4: Locality Funding | B4: 1828.52 | D4: 2023 | E4: 2024 | F4: Locality funding for gates
A5: Locality Funding | B5: 1300 | D5: 46062
A6: CIL | B6: 1387.55 | D6: 43045 | E6: 44871 | F6: Approved by MSDC for spending
A7: CIL | B7: 3.65 | D7: 45328 | E7: 47155
A8: Elections | B8: 1620
A9: NP Costs and Projects | B9: 9079 | C9: =SUM(B4:B9) -> 15218.72
A10: General Reserves
A11: General Contingency | B11: 4250
A12: From 25/26 budget | B12: 750
A13: RIX rebate | B13: 66.79 | D13: 45677
A14: RIX rebate | B14: 91.74 | D14: 46041
A15: Highways reimbursement | B15: 730 | C15: =SUM(B11:B15) -> 5888.53 | D15: 45700
A16: TOTAL | C16: =SUM(C9+C15) -> 21107.25
A18: Date | B18: Receipts
A19: 45761 | B19: MSDC Precept | C19: 3230.18
A20: 46041 | B20: RIX | C20: 91.74
A21: 46062 | B21: Mid Suffolk for Highways | C21: 1300
A22: 45908 | B22: MSDC Precept | C22: 3230.18
C23: =SUM(C19:C22) -> 7852.1
A25: Date | B25: Description | C25: Opening Balance | D25: Reconciled Debits | E25: Liable Debits | F25: Reconciled Receipts | G25: Liable Receipts | H25: Balance
A26: 45747 | B26: Opening Balance | C26: 19622.66 | D26: =Reconciled!E43 -> 3064.87 | E26: =Liable!F24 -> 0 | F26: =C23 -> 7852.1 | G26: 0 | H26: =C26-D26+F26 -> 24409.89
A30: 2025/2026 | B30: Transactions | D30: Reconciled Debits | E30: Liable Debits | F30: Sub Totals | G30: 2025/2026 Budget | H30: Budget vs actual
B31: =Reconciled!G$2 -> Subscriptions | D31: =Reconciled!G43 -> 448.16 | E31: =Liable!H24 -> 0 | F31: =D31+E31 -> 448.16 | G31: =VLOOKUP(B31,'[1] Budget analysis 202526'!$J$22:$N$40,5,0) -> 250 | H31: =G31-F31 -> -198.16
B32: =Reconciled!H2 -> Village Hall | D32: =Reconciled!H43 -> 248 | E32: =Liable!I24 -> 0 | F32: =D32+E32 -> 248 | G32: 250 | H32: =G32-F32 -> 2
B33: =Reconciled!I2 -> Training | D33: =Reconciled!I43 -> 0 | E33: =Liable!J24 -> 0 | F33: =D33+E33 -> 0 | G33: =VLOOKUP(B33,'[1] Budget analysis 202526'!$J$22:$N$40,5,0) -> 307.5 | H33: =G33-F33 -> 307.5
B34: =Reconciled!J2 -> Expenses | D34: =Reconciled!J43 -> 50.85 | E34: =Liable!K24 -> 0 | F34: =D34+E34 -> 50.85 | G34: =VLOOKUP(B34,'[1] Budget analysis 202526'!$J$22:$N$40,5,0) -> 200 | H34: =G34-F34 -> 149.15
B35: =Reconciled!K2 -> Audit | D35: =Reconciled!K43 -> 130 | E35: =Liable!L24 -> 0 | F35: =D35+E35 -> 130 | G35: =VLOOKUP(B35,'[1] Budget analysis 202526'!$J$22:$N$40,5,0) -> 133.25 | H35: =G35-F35 -> 3.25
B36: =Reconciled!L2 -> Salary | D36: =Reconciled!L43 -> 956.66 | E36: =Liable!M24 -> 0 | F36: =D36+E36 -> 956.66 | G36: =VLOOKUP(B36,'[1] Budget analysis 202526'!$J$22:$N$40,5,0) -> 3588.156 | H36: =G36-F36 -> 2631.496
B37: =Reconciled!M2 -> Defibrillator | D37: =Reconciled!M43 -> 271.2 | E37: =Liable!N24 -> 0 | F37: =D37+E37 -> 271.2 | G37: 200 | H37: =G37-F37 -> -71.2
B38: =Reconciled!N2 -> Local Elections | D38: =Reconciled!N43 -> 0 | E38: =Liable!O24 -> 0 | F38: =D38+E38 -> 0 | G38: 0 | H38: =G38-F38 -> 0
B39: =Reconciled!O2 -> Insurance | D39: =Reconciled!O43 -> 241 | E39: =Liable!P24 -> 0 | F39: =D39+E39 -> 241 | G39: =VLOOKUP(B39,'[1] Budget analysis 202526'!$J$22:$N$40,5,0) -> 500 | H39: =G39-F39 -> 259
B40: =Reconciled!P2 -> Chair's Allowance | D40: =Reconciled!P43 -> 0 | E40: =Liable!Q24 -> 0 | F40: =D40+E40 -> 0 | G40: =VLOOKUP(B40,'[1] Budget analysis 202526'!$J$22:$N$40,5,0) -> 50 | H40: =G40-F40 -> 50
B41: =Reconciled!Q2 -> Donations | D41: =Reconciled!Q43 -> 0 | E41: =Liable!R25 -> 0 | F41: =D41+E41 -> 0 | G41: =VLOOKUP(B41,'[1] Budget analysis 202526'!$J$22:$N$40,5,0) -> 200 | H41: =G41-F41 -> 200
B42: =Reconciled!R2 -> Laptop/IT | D42: =Reconciled!R43 -> 719 | E42: =Liable!S24 -> 0 | F42: =D42+E42 -> 719 | G42: =VLOOKUP(B42,'[1] Budget analysis 202526'!$J$22:$N$40,5,0) -> 256.25 | H42: =G42-F42 -> -462.75
B43: =Reconciled!S2 -> S137 Payments | D43: =Reconciled!S43 -> 0 | E43: =Liable!T24 -> 0 | F43: =D43+E43 -> 0 | G43: =VLOOKUP(B43,'[1] Budget analysis 202526'!$J$22:$N$40,5,0) -> 100 | H43: =G43-F43 -> 100
B44: =Reconciled!T2 -> SID | D44: =Reconciled!T43 -> 0 | E44: =Liable!U24 -> 0 | F44: =D44+E44 -> 0 | G44: =VLOOKUP(B44,'[1] Budget analysis 202526'!$J$22:$N$40,5,0) -> 102.5 | H44: =G44-F44 -> 102.5
B45: =Reconciled!U2 -> Stationary/Postage | D45: =Reconciled!U43 -> 0 | E45: =Liable!V24 -> 0 | F45: =D45+E45 -> 0 | G45: =VLOOKUP(B45,'[1] Budget analysis 202526'!$J$22:$N$40,5,0) -> 61.5 | H45: =G45-F45 -> 61.5
...
